BEGIN:VCALENDAR
VERSION:2.0
PRODID:-//Hülya Cihan - ECPv6.3.4//NONSGML v1.0//EN
CALSCALE:GREGORIAN
METHOD:PUBLISH
X-ORIGINAL-URL:https://hulyacihan.com
X-WR-CALDESC:Hülya Cihan için etkinlikler
REFRESH-INTERVAL;VALUE=DURATION:PT1H
X-Robots-Tag:noindex
X-PUBLISHED-TTL:PT1H
BEGIN:VTIMEZONE
TZID:Europe/Moscow
BEGIN:STANDARD
TZOFFSETFROM:+0300
TZOFFSETTO:+0300
TZNAME:MSK
DTSTART:20230101T000000
END:STANDARD
END:VTIMEZONE
BEGIN:VEVENT
DTSTART;TZID=Europe/Moscow:20231123T190000
DTEND;TZID=Europe/Moscow:20231126T190000
DTSTAMP:20260424T142407
CREATED:20230817T085324Z
LAST-MODIFIED:20231024T123336Z
UID:57880-1700766000-1701025200@hulyacihan.com
SUMMARY:Nefes ve Yaşam Semineri
DESCRIPTION:
URL:https://hulyacihan.com/etkinlik/nefes-ve-yasam-semineri-3
CATEGORIES:Nefes ve Yaşam Semineri
END:VEVENT
END:VCALENDAR